BEGIN:VCALENDAR
VERSION:2.0
PRODID:-//Volt Europa//Events//EN
CALSCALE:GREGORIAN
METHOD:PUBLISH
BEGIN:VEVENT
UID:volt-basel-meet-greet-1776790800@voltschweiz.org
DTSTAMP:20260421T105240Z
DTSTART;TZID=Europe/Zurich:20260421T190000
DTEND;TZID=Europe/Zurich:20260421T210000
SUMMARY:Volt Triregio Basel Meet & Greet
DESCRIPTION:Lern uns an einem gemüglichen Meet & Greet im Dreiländereck b
 ei Basel kennen. Komm auf ein paar Bier (oder dein liebstes alkoholfreies G
 etränk) vorbei und diskutier mit uns über Volt\, die Schweiz\, Europa und
  mehr.
LOCATION:Klara\, Clarastrasse 13\, Basel
URL:https://voltschweiz.org/veranstaltungen/volt-basel-meet-greet
END:VEVENT
END:VCALENDAR
